BEGIN:VCALENDAR
VERSION:2.0
PRODID:-//wp-events-plugin.com//7.2.3.1//EN
TZID:Europe/Paris
X-WR-TIMEZONE:Europe/Paris
BEGIN:VEVENT
UID:11@cavedeclochemerle.fr
DTSTART;TZID=Europe/Paris:20240719T193000
DTEND;TZID=Europe/Paris:20240719T234500
DTSTAMP:20240718T101901Z
URL:https://www.cavedeclochemerle.fr/events/rockn-rose-2024/
SUMMARY:Rock'N Rosé - 2024
DESCRIPTION:La Cave de Clochemerle lance sa 3ème édition de Rock'N Rosé 
 !\nNous vous donnons rendez-vous le Vendredi 19 Juillet à partir 19h30 po
 ur découvrir notre rosé Courtebiche :\n\n\n- Profitez d'une soirée d'é
 té dans un cadre convivial avec notre terrasse perchée sur le coteau qui
  permet de voir toute la plaine de la Saône.\n- Une formule snack réalis
 é par le restaurant L'Échanson.\n- Une ambiance Rock'N Roll animée par 
 les groupes Ici la Terre et WhyNotes.\n\nPRÉVENTE = 5€\nTARIFS SUR PLAC
 E = 6 €\nGratuit pour les enfants de -16ans.\n\n&nbsp\;\n\n* À l’entr
 ée de l'événement 3 € de consigne seront demandés pour le verre.\n\
 nEn cas d'annulation\, aucun remboursement ne sera possible.
ATTACH;FMTTYPE=image/jpeg:https://i0.wp.com/www.cavedeclochemerle.fr/wp-co
 ntent/uploads/2023/05/1016533-copie-scaled.jpg?fit=2550%2C2560&ssl=1
LOCATION:Cave de Clochemerle\, 22 place du Petit Tertre\, Vaux-en-Beaujolai
 s\, 69460\, France
X-APPLE-STRUCTURED-LOCATION;VALUE=URI;X-ADDRESS=22 place du Petit Tertre\, 
 Vaux-en-Beaujolais\, 69460\, France;X-APPLE-RADIUS=100;X-TITLE=Cave de Clo
 chemerle:geo:0,0
END:VEVENT
BEGIN:VTIMEZONE
TZID:Europe/Paris
X-LIC-LOCATION:Europe/Paris
BEGIN:DAYLIGHT
DTSTART:20240331T030000
TZOFFSETFROM:+0100
TZOFFSETTO:+0200
TZNAME:CEST
END:DAYLIGHT
END:VTIMEZONE
END:VCALENDAR